BEGIN:VCALENDAR
VERSION:2.0
PRODID:-//Law and Political Economy Collective - ECPv6.15.12//NONSGML v1.0//EN
CALSCALE:GREGORIAN
METHOD:PUBLISH
X-WR-CALNAME:Law and Political Economy Collective
X-ORIGINAL-URL:https://lpecollective.org
X-WR-CALDESC:Events for Law and Political Economy Collective
REFRESH-INTERVAL;VALUE=DURATION:PT1H
X-Robots-Tag:noindex
X-PUBLISHED-TTL:PT1H
BEGIN:VTIMEZONE
TZID:+00:00
END:VTIMEZONE
BEGIN:VEVENT
DTSTART;TZID=+00:00:20241219T181928
DTEND;TZID=+00:00:20241219T191928
DTSTAMP:20260421T160414
CREATED:20250429T094453Z
LAST-MODIFIED:20250429T190336Z
UID:1535-1734632368-1734635968@lpecollective.org
SUMMARY:ClassCrits VIII: The New Corporatocracy and Election 2016
DESCRIPTION:The 8th Annual ClassCrits conference\, held at Loyola University Chicago School of Law\, Chicago\, IL featured scholarship on the theme “The New Corporatocracy and Election 2016.” \n\n\n\nConference Materials: \n\n\n\n2016 Call for Papers \n\n\n\n2017 Western New England Law Review symposium (vol. 39\, no. 4) \n\n\n\n 
URL:https://lpecollective.org/event/classcrits-viii-the-new-corporatocracy-and-election-2016/
CATEGORIES:ClassCrits
ATTACH;FMTTYPE=image/png:https://lpecollective.org/wp-content/uploads/2024/09/LPE-graphicelement-03-white.png
END:VEVENT
END:VCALENDAR