BEGIN:VCALENDAR
VERSION:2.0
PRODID:-//Law and Political Economy Collective - ECPv6.15.12//NONSGML v1.0//EN
CALSCALE:GREGORIAN
METHOD:PUBLISH
X-ORIGINAL-URL:https://lpecollective.org
X-WR-CALDESC:Events for Law and Political Economy Collective
REFRESH-INTERVAL;VALUE=DURATION:PT1H
X-Robots-Tag:noindex
X-PUBLISHED-TTL:PT1H
BEGIN:VTIMEZONE
TZID:+00:00
END:VTIMEZONE
BEGIN:VEVENT
DTSTART;TZID=+00:00:20221021T185400
DTEND;TZID=+00:00:20221021T195400
DTSTAMP:20260423T050045
CREATED:20250429T094421Z
LAST-MODIFIED:20250429T221612Z
UID:1500-1666378440-1666382040@lpecollective.org
SUMMARY:ClassCrits XIII: Unlocking Race & Class for Just Transitions 
DESCRIPTION:The 13th Annual ClassCrits conference\, held at Thurgood Marshall School of Law in Houston\, TX\, featured scholarship on the theme “Unlocking Race & Class For Just Transitions.” \n\n\n\nConference Materials: \n\n\n\n2022 Call for Papers \n\n\n\n2022 ClassCrits Program
URL:https://lpecollective.org/event/classcrits-xiii-unlocking-race-class-for-just-transitions/
CATEGORIES:ClassCrits
ATTACH;FMTTYPE=image/png:https://lpecollective.org/wp-content/uploads/2024/09/LPE-graphicelement-02-white.png
END:VEVENT
END:VCALENDAR