BEGIN:VCALENDAR
VERSION:2.0
PRODID:-//Law and Political Economy Collective - ECPv6.15.12//NONSGML v1.0//EN
CALSCALE:GREGORIAN
METHOD:PUBLISH
X-ORIGINAL-URL:https://lpecollective.org
X-WR-CALDESC:Events for Law and Political Economy Collective
REFRESH-INTERVAL;VALUE=DURATION:PT1H
X-Robots-Tag:noindex
X-PUBLISHED-TTL:PT1H
BEGIN:VTIMEZONE
TZID:America/New_York
BEGIN:DAYLIGHT
TZOFFSETFROM:-0500
TZOFFSETTO:-0400
TZNAME:EDT
DTSTART:20250309T070000
END:DAYLIGHT
BEGIN:STANDARD
TZOFFSETFROM:-0400
TZOFFSETTO:-0500
TZNAME:EST
DTSTART:20251102T060000
END:STANDARD
BEGIN:DAYLIGHT
TZOFFSETFROM:-0500
TZOFFSETTO:-0400
TZNAME:EDT
DTSTART:20260308T070000
END:DAYLIGHT
BEGIN:STANDARD
TZOFFSETFROM:-0400
TZOFFSETTO:-0500
TZNAME:EST
DTSTART:20261101T060000
END:STANDARD
BEGIN:DAYLIGHT
TZOFFSETFROM:-0500
TZOFFSETTO:-0400
TZNAME:EDT
DTSTART:20270314T070000
END:DAYLIGHT
BEGIN:STANDARD
TZOFFSETFROM:-0400
TZOFFSETTO:-0500
TZNAME:EST
DTSTART:20271107T060000
END:STANDARD
END:VTIMEZONE
BEGIN:VEVENT
DTSTART;TZID=America/New_York:20260123T100000
DTEND;TZID=America/New_York:20260123T113000
DTSTAMP:20260424T013229
CREATED:20260114T190054Z
LAST-MODIFIED:20260122T162603Z
UID:1871-1769162400-1769167800@lpecollective.org
SUMMARY:What is Capitalism? Reading & Discussion Group with Joanna Kusiak
DESCRIPTION:Friday\, Jan. 23\, 2026 at 10 am ET (UTC-5) / 15:00 GMT \nWhat is Capitalism? Reading & Discussion Group \nJoin Joanna Kusiak for a discussion of her book\, Radically Legal: Berlin Constitutes the Future\,Cambridge University Press (2024) https://doi.org/10.1017/9781009516914. The book reflects on an activist housing campaign that used constitutional protections for property rights to expropriate urban apartments owned by corporate speculators. Professor Kusiak is a Junior Research Fellow at King’s College\, University of Cambridge. \nTo register\, scroll down on this page and click the green “Register Now” button.
URL:https://lpecollective.org/event/what-is-capitalism-joanna-kusiak/
CATEGORIES:APPEAL,What is Capitalism?
END:VEVENT
END:VCALENDAR