BEGIN:VCALENDAR
VERSION:2.0
PRODID:-//Law and Political Economy Collective - ECPv6.15.12//NONSGML v1.0//EN
CALSCALE:GREGORIAN
METHOD:PUBLISH
X-WR-CALNAME:Law and Political Economy Collective
X-ORIGINAL-URL:https://lpecollective.org
X-WR-CALDESC:Events for Law and Political Economy Collective
REFRESH-INTERVAL;VALUE=DURATION:PT1H
X-Robots-Tag:noindex
X-PUBLISHED-TTL:PT1H
BEGIN:VTIMEZONE
TZID:+00:00
END:VTIMEZONE
BEGIN:VEVENT
DTSTART;TZID=+00:00:20250124T150016
DTEND;TZID=+00:00:20250124T160016
DTSTAMP:20260424T171701
CREATED:20250429T094421Z
LAST-MODIFIED:20260122T162747Z
UID:1475-1737730816-1737734416@lpecollective.org
SUMMARY:What is Capitalism? Reading & Discussion Group
DESCRIPTION:January 24\, 2025 at 3 pm ET \nProfessor Akbar Rasulov\, University of Glasgow Law\, will lead a discussion of Duncan Kennedy’s classic article\, The Role of Law in Economic Thought: Essays on the Fetishism of Commodities\, 34 American University Law Review 939 (1985). \nRegister here.
URL:https://lpecollective.org/event/what-is-capitalism-reading-discussion-group-3/
CATEGORIES:APPEAL,What is Capitalism?
ATTACH;FMTTYPE=image/png:https://lpecollective.org/wp-content/uploads/2025/01/wordpress-graphic.png
END:VEVENT
END:VCALENDAR