BEGIN:VCALENDAR
VERSION:2.0
PRODID:-//Law and Political Economy Collective - ECPv6.15.12//NONSGML v1.0//EN
CALSCALE:GREGORIAN
METHOD:PUBLISH
X-WR-CALNAME:Law and Political Economy Collective
X-ORIGINAL-URL:https://lpecollective.org
X-WR-CALDESC:Events for Law and Political Economy Collective
REFRESH-INTERVAL;VALUE=DURATION:PT1H
X-Robots-Tag:noindex
X-PUBLISHED-TTL:PT1H
BEGIN:VTIMEZONE
TZID:+00:00
END:VTIMEZONE
BEGIN:VEVENT
DTSTART;TZID=+00:00:20241115T064109
DTEND;TZID=+00:00:20241115T074109
DTSTAMP:20260424T195003
CREATED:20250429T094421Z
LAST-MODIFIED:20260122T162720Z
UID:1481-1731652869-1731656469@lpecollective.org
SUMMARY:What is Capitalism? Reading & Discussion Group #33
DESCRIPTION:November 15\, 2024 \nFernando Loayza Jordán presented his paper\, on democracy and taxation\, Contesting the Neoliberal Social Contract. \n 
URL:https://lpecollective.org/event/what-is-capitalism-reading-discussion-group-33/
CATEGORIES:APPEAL,What is Capitalism?
END:VEVENT
END:VCALENDAR