BEGIN:VCALENDAR
VERSION:2.0
PRODID:-//Law and Political Economy Collective - ECPv6.15.12//NONSGML v1.0//EN
CALSCALE:GREGORIAN
METHOD:PUBLISH
X-ORIGINAL-URL:https://lpecollective.org
X-WR-CALDESC:Events for Law and Political Economy Collective
REFRESH-INTERVAL;VALUE=DURATION:PT1H
X-Robots-Tag:noindex
X-PUBLISHED-TTL:PT1H
BEGIN:VTIMEZONE
TZID:America/New_York
BEGIN:DAYLIGHT
TZOFFSETFROM:-0500
TZOFFSETTO:-0400
TZNAME:EDT
DTSTART:20250309T070000
END:DAYLIGHT
BEGIN:STANDARD
TZOFFSETFROM:-0400
TZOFFSETTO:-0500
TZNAME:EST
DTSTART:20251102T060000
END:STANDARD
BEGIN:DAYLIGHT
TZOFFSETFROM:-0500
TZOFFSETTO:-0400
TZNAME:EDT
DTSTART:20260308T070000
END:DAYLIGHT
BEGIN:STANDARD
TZOFFSETFROM:-0400
TZOFFSETTO:-0500
TZNAME:EST
DTSTART:20261101T060000
END:STANDARD
BEGIN:DAYLIGHT
TZOFFSETFROM:-0500
TZOFFSETTO:-0400
TZNAME:EDT
DTSTART:20270314T070000
END:DAYLIGHT
BEGIN:STANDARD
TZOFFSETFROM:-0400
TZOFFSETTO:-0500
TZNAME:EST
DTSTART:20271107T060000
END:STANDARD
END:VTIMEZONE
BEGIN:VEVENT
DTSTART;TZID=America/New_York:20260220T150000
DTEND;TZID=America/New_York:20260220T163000
DTSTAMP:20260423T230713
CREATED:20260109T220619Z
LAST-MODIFIED:20260122T162610Z
UID:1883-1771599600-1771605000@lpecollective.org
SUMMARY:What is Capitalism? Reading & Discussion Group with Zoe Sherman
DESCRIPTION:Friday\, Feb. 20\, 2026 at 3 pm ET (UTC-5) / 20:00 GMT \n\nWhat is Capitalism? Reading & Discussion Group \nZoe Sherman will present her work in progress\, Capital\, Trademark\, and the Properties of Intellect. The paper is part of a project exploring capitalism and the marketplace of ideas\, building on the author’s expertise in connecting economics and culture. REGISTER HERE to receive the zoom link and the reading. \nZoe Sherman is a political economist and economic historian. She holds a Ph.D. from UMass-Amherst\, was a professor of economics at Merrimack College for 10 years\, and has been a member of the Dollars & Sense collective since 2014. She is the author of Modern Advertising and the Market for Audience Attention: The US Advertising Industry’s Turn-or-the-Twentieth Century Transition (Routledge 2020). Her recent writing for Dollars & Sense is available here.
URL:https://lpecollective.org/event/what-is-capitalism-zoe-sherman/
CATEGORIES:APPEAL,What is Capitalism?
END:VEVENT
END:VCALENDAR