BEGIN:VCALENDAR
VERSION:2.0
PRODID:-//Law and Political Economy Collective - ECPv6.15.12//NONSGML v1.0//EN
CALSCALE:GREGORIAN
METHOD:PUBLISH
X-WR-CALNAME:Law and Political Economy Collective
X-ORIGINAL-URL:https://lpecollective.org
X-WR-CALDESC:Events for Law and Political Economy Collective
REFRESH-INTERVAL;VALUE=DURATION:PT1H
X-Robots-Tag:noindex
X-PUBLISHED-TTL:PT1H
BEGIN:VTIMEZONE
TZID:America/New_York
BEGIN:DAYLIGHT
TZOFFSETFROM:-0500
TZOFFSETTO:-0400
TZNAME:EDT
DTSTART:20240310T070000
END:DAYLIGHT
BEGIN:STANDARD
TZOFFSETFROM:-0400
TZOFFSETTO:-0500
TZNAME:EST
DTSTART:20241103T060000
END:STANDARD
BEGIN:DAYLIGHT
TZOFFSETFROM:-0500
TZOFFSETTO:-0400
TZNAME:EDT
DTSTART:20250309T070000
END:DAYLIGHT
BEGIN:STANDARD
TZOFFSETFROM:-0400
TZOFFSETTO:-0500
TZNAME:EST
DTSTART:20251102T060000
END:STANDARD
BEGIN:DAYLIGHT
TZOFFSETFROM:-0500
TZOFFSETTO:-0400
TZNAME:EDT
DTSTART:20260308T070000
END:DAYLIGHT
BEGIN:STANDARD
TZOFFSETFROM:-0400
TZOFFSETTO:-0500
TZNAME:EST
DTSTART:20261101T060000
END:STANDARD
END:VTIMEZONE
BEGIN:VEVENT
DTSTART;TZID=America/New_York:20250905T120000
DTEND;TZID=America/New_York:20250905T130000
DTSTAMP:20260424T053034
CREATED:20250827T183216Z
LAST-MODIFIED:20260122T181619Z
UID:1798-1757073600-1757077200@lpecollective.org
SUMMARY:What is Capitalism? Reading & Discussion Group
DESCRIPTION:This session will discuss a working paper by Eric Scorsone and Fabrizio Esposito\, The Doctrinal Myth of the Efficient Breach in the Overbid Scenario: Unduly Reducing Expected Performance to Expected Profit. \nRegister here. \nIn a contractual relationship\, does the Promisor own the Promisee’s performance? If so\, up to what extent? These questions are at the heart of contract law and contract law scholarship. The economic approach to law has long proposed a way to answer these questions\, the so-called efficient breach. What do we owe when we break an existing contract to take advantage of a better deal? The authors argue that prominent economic analysis of breach of contract misunderstands the legal\, moral\, and practical aspects of contractual obligations and entitlements. \nThis session adds to our series of sessions over the last few years examining the legal complexities of basic economic concepts. The idea of voluntary market transactions for mutual gain is central to the logics of capitalism. Closer attention to how contract law and institutions shape transactions can clarify underlying assumptions and conflicts about who deserves what and why. \nEric Scorsone is Executive Director\, Weldon Cooper Center for Public Service and Associate Professor of Public Policy by Courtesy\, University of Virginia. He co-hosts the Legal-Economic Nexus Podcast with Sarah Klammer. \nFabrizio Esposito is Associate Professor of Private Law\, NOVA School of Law and the Research & Development Centre in Law and Society in Lisbon\, Portugal. \nWe’ll begin with a 10 minute introduction by the author\, followed by extended conversation with participants.
URL:https://lpecollective.org/event/what-is-capitalism-reading-discussion-group-34/
CATEGORIES:APPEAL,What is Capitalism?
END:VEVENT
END:VCALENDAR