BEGIN:VCALENDAR
VERSION:2.0
PRODID:-//Law and Political Economy Collective - ECPv6.15.12//NONSGML v1.0//EN
CALSCALE:GREGORIAN
METHOD:PUBLISH
X-ORIGINAL-URL:https://lpecollective.org
X-WR-CALDESC:Events for Law and Political Economy Collective
REFRESH-INTERVAL;VALUE=DURATION:PT1H
X-Robots-Tag:noindex
X-PUBLISHED-TTL:PT1H
BEGIN:VTIMEZONE
TZID:Africa/Abidjan
BEGIN:STANDARD
TZOFFSETFROM:+0000
TZOFFSETTO:+0000
TZNAME:GMT
DTSTART:20240101T000000
END:STANDARD
END:VTIMEZONE
BEGIN:VEVENT
DTSTART;TZID=Africa/Abidjan:20250328T205900
DTEND;TZID=Africa/Abidjan:20250328T215900
DTSTAMP:20260424T130735
CREATED:20250429T094421Z
LAST-MODIFIED:20260122T192948Z
UID:1473-1743195540-1743199140@lpecollective.org
SUMMARY:What is Capitalism? Reading & Discussion Group
DESCRIPTION:March 28\, 2025 at 3 pm ET \nA discussion with Paul Cammack\, University of Manchester\, featuring his article\, Politics and Political Economy of Post-Reproduction Societies. \nRegister here.
URL:https://lpecollective.org/event/what-is-capitalism-reading-discussion-group/
CATEGORIES:APPEAL,What is Capitalism?
ATTACH;FMTTYPE=image/png:https://lpecollective.org/wp-content/uploads/2025/03/cammack.png
END:VEVENT
END:VCALENDAR