BEGIN:VCALENDAR
VERSION:2.0
PRODID:-//Law and Political Economy Collective - ECPv6.15.12//NONSGML v1.0//EN
CALSCALE:GREGORIAN
METHOD:PUBLISH
X-WR-CALNAME:Law and Political Economy Collective
X-ORIGINAL-URL:https://lpecollective.org
X-WR-CALDESC:Events for Law and Political Economy Collective
REFRESH-INTERVAL;VALUE=DURATION:PT1H
X-Robots-Tag:noindex
X-PUBLISHED-TTL:PT1H
BEGIN:VTIMEZONE
TZID:Africa/Abidjan
BEGIN:STANDARD
TZOFFSETFROM:+0000
TZOFFSETTO:+0000
TZNAME:GMT
DTSTART:20240101T000000
END:STANDARD
END:VTIMEZONE
BEGIN:VEVENT
DTSTART;TZID=Africa/Abidjan:20250228T150000
DTEND;TZID=Africa/Abidjan:20250228T160000
DTSTAMP:20260424T142536
CREATED:20250429T094421Z
LAST-MODIFIED:20260122T194855Z
UID:1474-1740754800-1740758400@lpecollective.org
SUMMARY:What is Capitalism? Reading & Discussion Group
DESCRIPTION:February 28\, 2025 at 3 pm ET \nA discussion with Kimberly Kracman on her article\, Code as Constitution: The Negotiation of a Uniform Accounting Code for U.S. Railway Corporations and the Moral Justification of Stakeholder Claims on Wealth\, Critical Perspectives on Accounting. \nRegister here.
URL:https://lpecollective.org/event/what-is-capitalism-reading-discussion-group-2/
CATEGORIES:APPEAL,What is Capitalism?
ATTACH;FMTTYPE=image/png:https://lpecollective.org/wp-content/uploads/2025/02/Kracman.png
END:VEVENT
END:VCALENDAR