BEGIN:VCALENDAR
VERSION:2.0
PRODID:-//Law and Political Economy Collective - ECPv6.15.12//NONSGML v1.0//EN
CALSCALE:GREGORIAN
METHOD:PUBLISH
X-ORIGINAL-URL:https://lpecollective.org
X-WR-CALDESC:Events for Law and Political Economy Collective
REFRESH-INTERVAL;VALUE=DURATION:PT1H
X-Robots-Tag:noindex
X-PUBLISHED-TTL:PT1H
BEGIN:VTIMEZONE
TZID:Europe/Rome
BEGIN:DAYLIGHT
TZOFFSETFROM:+0100
TZOFFSETTO:+0200
TZNAME:CEST
DTSTART:20240331T010000
END:DAYLIGHT
BEGIN:STANDARD
TZOFFSETFROM:+0200
TZOFFSETTO:+0100
TZNAME:CET
DTSTART:20241027T010000
END:STANDARD
BEGIN:DAYLIGHT
TZOFFSETFROM:+0100
TZOFFSETTO:+0200
TZNAME:CEST
DTSTART:20250330T010000
END:DAYLIGHT
BEGIN:STANDARD
TZOFFSETFROM:+0200
TZOFFSETTO:+0100
TZNAME:CET
DTSTART:20251026T010000
END:STANDARD
BEGIN:DAYLIGHT
TZOFFSETFROM:+0100
TZOFFSETTO:+0200
TZNAME:CEST
DTSTART:20260329T010000
END:DAYLIGHT
BEGIN:STANDARD
TZOFFSETFROM:+0200
TZOFFSETTO:+0100
TZNAME:CET
DTSTART:20261025T010000
END:STANDARD
END:VTIMEZONE
BEGIN:VTIMEZONE
TZID:America/New_York
BEGIN:DAYLIGHT
TZOFFSETFROM:-0500
TZOFFSETTO:-0400
TZNAME:EDT
DTSTART:20200308T070000
END:DAYLIGHT
BEGIN:STANDARD
TZOFFSETFROM:-0400
TZOFFSETTO:-0500
TZNAME:EST
DTSTART:20201101T060000
END:STANDARD
BEGIN:DAYLIGHT
TZOFFSETFROM:-0500
TZOFFSETTO:-0400
TZNAME:EDT
DTSTART:20210314T070000
END:DAYLIGHT
BEGIN:STANDARD
TZOFFSETFROM:-0400
TZOFFSETTO:-0500
TZNAME:EST
DTSTART:20211107T060000
END:STANDARD
BEGIN:DAYLIGHT
TZOFFSETFROM:-0500
TZOFFSETTO:-0400
TZNAME:EDT
DTSTART:20220313T070000
END:DAYLIGHT
BEGIN:STANDARD
TZOFFSETFROM:-0400
TZOFFSETTO:-0500
TZNAME:EST
DTSTART:20221106T060000
END:STANDARD
BEGIN:DAYLIGHT
TZOFFSETFROM:-0500
TZOFFSETTO:-0400
TZNAME:EDT
DTSTART:20230312T070000
END:DAYLIGHT
BEGIN:STANDARD
TZOFFSETFROM:-0400
TZOFFSETTO:-0500
TZNAME:EST
DTSTART:20231105T060000
END:STANDARD
END:VTIMEZONE
BEGIN:VTIMEZONE
TZID:Africa/Abidjan
BEGIN:STANDARD
TZOFFSETFROM:+0000
TZOFFSETTO:+0000
TZNAME:GMT
DTSTART:20180101T000000
END:STANDARD
END:VTIMEZONE
BEGIN:VEVENT
DTSTART;TZID=Europe/Rome:20250714T090000
DTEND;TZID=Europe/Rome:20250718T170000
DTSTAMP:20260424T013120
CREATED:20250429T200204Z
LAST-MODIFIED:20260122T200722Z
UID:1536-1752483600-1752858000@lpecollective.org
SUMMARY:Global Law and Political Economy Summer Academy
DESCRIPTION:July 14 – July 18\, 2025\, Roccella Ionica\, Italy \nView the program. \nApply by 25 April 2025. \nThe Summer School offers an interactive\, non-hierarchical\, and focused mentorship and skill-building experience for students and faculty. It engages critically with the diverse considerations of political-economy-law while fostering democratic dialogue with local cultures. \nThe program spans three days: \n\nDay 1: Roundtable and writing workshop sessions (workshops modelled on IGLP format);\nDay 2: Case study focused on interactive\, problem-based group learning\, a focused master class\, and a cultural excursion exploring local custom and history; and\nDay 3: Lectures from high-profile judges at the intersection of policy\, power and law as well as a career mentorship session.\n\nThe Summer Academy is a collaboration between the INET YSI FLE Working Group\, the Law and Political Economy Collective (LPE-C)\, the Initiative for Global Law and Political Economy at the University of Manchester (iGLPE)\, the European Association for Evolutionary Political Economy (EAEPE)\, and the City of Roccella\, Italy. \nApplication Details: \nWe invite graduate students (Masters or Ph.D. students or within three years of completing Ph.D.) interested in exploring questions of law and political economy to apply. \n\nFunding: Partial travel stipends and shared accommodation provided.\nHow to Apply: Submit a 200-word abstract on a theme related to law and political economy; and CV (including any references) by 25 April 2025.\nAccepted participants will be requested to submit a working paper for the writing workshop between 3000-8000 words no later than 1 June 2025.\n\nFor more information contact: christina@youngscholarsinitiative.org.
URL:https://lpecollective.org/event/global-lpe-summer-academy/
CATEGORIES:APPEAL,Summer Academy
END:VEVENT
BEGIN:VEVENT
DTSTART;VALUE=DATE:20220704
DTEND;VALUE=DATE:20220709
DTSTAMP:20260424T013120
CREATED:20260122T200629Z
LAST-MODIFIED:20260122T200629Z
UID:1922-1656892800-1657324799@lpecollective.org
SUMMARY:Summer Academy: Law and Money
DESCRIPTION:2022 Summer Academy  \nLaw and Money: Labor and Inequality in a Time of Covid \nHosted by EAEPE and the University Roma Tre\, Department of Economics
URL:https://lpecollective.org/event/summer-academy-law-and-money/
CATEGORIES:APPEAL,Summer Academy
END:VEVENT
BEGIN:VEVENT
DTSTART;VALUE=DATE:20210726
DTEND;VALUE=DATE:20210727
DTSTAMP:20260424T013120
CREATED:20260122T200337Z
LAST-MODIFIED:20260122T200337Z
UID:1919-1627257600-1627343999@lpecollective.org
SUMMARY:Summer Academy on Law\, Money\, and Technology
DESCRIPTION:2021 Summer Academy \nLaw\, Money\, and Technology: Toward Democratic Futures \nHosted by University of Manchester
URL:https://lpecollective.org/event/summer-academy-on-law-money-and-technology-2/
CATEGORIES:APPEAL,Summer Academy
END:VEVENT
BEGIN:VEVENT
DTSTART;TZID=Africa/Abidjan:20200713T190100
DTEND;TZID=Africa/Abidjan:20200713T200100
DTSTAMP:20260424T013120
CREATED:20200713T094453Z
LAST-MODIFIED:20260122T195653Z
UID:1533-1594666860-1594670460@lpecollective.org
SUMMARY:Summer Academy on Law\, Money and Technology
DESCRIPTION:Program \n2020 Summer Academy \nLaw\, Money\, and Technology: Transforming Political Economy \nHosted by University of Manchester
URL:https://lpecollective.org/event/summer-academy-on-law-money-and-technology/
CATEGORIES:APPEAL,Summer Academy
ATTACH;FMTTYPE=image/png:https://lpecollective.org/wp-content/uploads/2024/09/LPE-graphicelement-03-white.png
END:VEVENT
BEGIN:VEVENT
DTSTART;TZID=Africa/Abidjan:20190710T185700
DTEND;TZID=Africa/Abidjan:20190710T195700
DTSTAMP:20260424T013120
CREATED:20190711T094453Z
LAST-MODIFIED:20260122T200024Z
UID:1534-1562785020-1562788620@lpecollective.org
SUMMARY:Summer Academy: Law and Money: From Past to Future
DESCRIPTION:Program \n2019 Summer Academy \nLaw and Money: From Past to Future \nHosted by University of Manchester
URL:https://lpecollective.org/event/summer-academy-law-and-money-from-past-to-future/
CATEGORIES:APPEAL,Summer Academy
ATTACH;FMTTYPE=image/png:https://lpecollective.org/wp-content/uploads/2024/09/LPE-graphicelement-03-white.png
END:VEVENT
END:VCALENDAR